BEGIN:VCALENDAR
VERSION:2.0
PRODID:-//Nepali Calendar//EN
BEGIN:VEVENT
UID:76dc74d9d850ee5d7cb81cd3fd27ff54@nepalicalendar.com
DTSTAMP:20260421T113845Z
DTSTART;VALUE=DATE:20260202
DTEND;VALUE=DATE:20260203
SUMMARY:विश्व सिमसार दिवस
DESCRIPTION:विश्व सिमसार दिवस
END:VEVENT
END:VCALENDAR