BEGIN:VCALENDAR
VERSION:2.0
PRODID:-//Nepali Calendar//EN
BEGIN:VEVENT
UID:e1ce2d5cf85d3358c8a17404982961d5@nepalicalendar.com
DTSTAMP:20260421T113727Z
DTSTART;VALUE=DATE:20260201
DTEND;VALUE=DATE:20260202
SUMMARY:श्री स्वस्थानी व्रत समाप्ती
DESCRIPTION:श्री स्वस्थानी व्रत समाप्ती
END:VEVENT
END:VCALENDAR