BEGIN:VCALENDAR
VERSION:2.0
PRODID:-//Nepali Calendar//EN
BEGIN:VEVENT
UID:84c1715414282531152482c89b08a8a4@nepalicalendar.com
DTSTAMP:20260421T113914Z
DTSTART;VALUE=DATE:20260130
DTEND;VALUE=DATE:20260131
SUMMARY:शहीद दिवस
DESCRIPTION:शहीद दिवस
END:VEVENT
END:VCALENDAR