BEGIN:VCALENDAR
VERSION:2.0
PRODID:-//Nepali Calendar//EN
BEGIN:VEVENT
UID:bac8fcfec5ca7ce9f20e69dd52c9c876@nepalicalendar.com
DTSTAMP:20260421T113844Z
DTSTART;VALUE=DATE:20260129
DTEND;VALUE=DATE:20260130
SUMMARY:भीमा एकादशी व्रत
DESCRIPTION:भीमा एकादशी व्रत
END:VEVENT
END:VCALENDAR