BEGIN:VCALENDAR
VERSION:2.0
PRODID:-//Nepali Calendar//EN
BEGIN:VEVENT
UID:f83019dfac0c6552e1b81f8861748a99@nepalicalendar.com
DTSTAMP:20260421T113639Z
DTSTART;VALUE=DATE:20260127
DTEND;VALUE=DATE:20260128
SUMMARY:द्रोण नवमी
DESCRIPTION:द्रोण नवमी
END:VEVENT
END:VCALENDAR