BEGIN:VCALENDAR
VERSION:2.0
PRODID:-//Nepali Calendar//EN
BEGIN:VEVENT
UID:88b8345d4cf7fddf26c444bb20b65234@nepalicalendar.com
DTSTAMP:20260421T113727Z
DTSTART;VALUE=DATE:20260126
DTEND;VALUE=DATE:20260127
SUMMARY:अन्तर्राष्ट्रिय भन्सार दिवस
DESCRIPTION:अन्तर्राष्ट्रिय भन्सार दिवस
END:VEVENT
END:VCALENDAR