BEGIN:VCALENDAR
VERSION:2.0
PRODID:-//Nepali Calendar//EN
BEGIN:VEVENT
UID:db92253922a1a40c2d290f0d0ef4e1e7@nepalicalendar.com
DTSTAMP:20260421T113913Z
DTSTART;VALUE=DATE:20260125
DTEND;VALUE=DATE:20260126
SUMMARY:विश्व कुष्ठरोग दिवस
DESCRIPTION:विश्व कुष्ठरोग दिवस
END:VEVENT
END:VCALENDAR