BEGIN:VCALENDAR
VERSION:2.0
PRODID:-//Nepali Calendar//EN
BEGIN:VEVENT
UID:8ad5adbee629ad2f55beaed86484a368@nepalicalendar.com
DTSTAMP:20260422T023331Z
DTSTART;VALUE=DATE:20250424
DTEND;VALUE=DATE:20250425
SUMMARY:वरुथिनी एकादशी व्रत
DESCRIPTION:वरुथिनी एकादशी व्रत
END:VEVENT
END:VCALENDAR