BEGIN:VCALENDAR
VERSION:2.0
PRODID:-//Nepali Calendar//EN
BEGIN:VEVENT
UID:df385e1e651b2f26e24ccf1360eeba6c@nepalicalendar.com
DTSTAMP:20260421T113803Z
DTSTART;VALUE=DATE:20260124
DTEND;VALUE=DATE:20260125
SUMMARY:अन्तर्राष्ट्रिय शिक्षा दिवस
DESCRIPTION:अन्तर्राष्ट्रिय शिक्षा दिवस
END:VEVENT
END:VCALENDAR