BEGIN:VCALENDAR
VERSION:2.0
PRODID:-//Nepali Calendar//EN
BEGIN:VEVENT
UID:20d7154592bb60eeb76d5546e0f81568@nepalicalendar.com
DTSTAMP:20260421T113851Z
DTSTART;VALUE=DATE:20260124
DTEND;VALUE=DATE:20260125
SUMMARY:अचला सप्तमी
DESCRIPTION:अचला सप्तमी
END:VEVENT
END:VCALENDAR