BEGIN:VCALENDAR
VERSION:2.0
PRODID:-//Nepali Calendar//EN
BEGIN:VEVENT
UID:6f7745962a76534c98c4bf70422b59e4@nepalicalendar.com
DTSTAMP:20260421T114000Z
DTSTART;VALUE=DATE:20260124
DTEND;VALUE=DATE:20260125
SUMMARY:स्कन्द षष्ठी
DESCRIPTION:स्कन्द षष्ठी
END:VEVENT
END:VCALENDAR