BEGIN:VCALENDAR
VERSION:2.0
PRODID:-//Nepali Calendar//EN
BEGIN:VEVENT
UID:2c1cf33e1ce3e174be6675dd8fc6dbc1@nepalicalendar.com
DTSTAMP:20260421T113943Z
DTSTART;VALUE=DATE:20260123
DTEND;VALUE=DATE:20260124
SUMMARY:सरस्वती पूजा (शिक्षण संस्था बिदा)
DESCRIPTION:सरस्वती पूजा (शिक्षण संस्था बिदा)
END:VEVENT
END:VCALENDAR