BEGIN:VCALENDAR
VERSION:2.0
PRODID:-//Nepali Calendar//EN
BEGIN:VEVENT
UID:d6b175e9b72e5ef046cf564cd3ac56ab@nepalicalendar.com
DTSTAMP:20260421T113655Z
DTSTART;VALUE=DATE:20260123
DTEND;VALUE=DATE:20260124
SUMMARY:वसन्तपञ्चमी व्रत
DESCRIPTION:वसन्तपञ्चमी व्रत
END:VEVENT
END:VCALENDAR