BEGIN:VCALENDAR
VERSION:2.0
PRODID:-//Nepali Calendar//EN
BEGIN:VEVENT
UID:272c2c76d4a1a2017b572c591829bd0b@nepalicalendar.com
DTSTAMP:20260421T114046Z
DTSTART;VALUE=DATE:20260119
DTEND;VALUE=DATE:20260120
SUMMARY:श्रीबल्लभ जयन्ती
DESCRIPTION:श्रीबल्लभ जयन्ती
END:VEVENT
END:VCALENDAR