BEGIN:VCALENDAR
VERSION:2.0
PRODID:-//Nepali Calendar//EN
BEGIN:VEVENT
UID:80e71588b0cdef801cf745d1ff7d96f3@nepalicalendar.com
DTSTAMP:20260421T114000Z
DTSTART;VALUE=DATE:20260119
DTEND;VALUE=DATE:20260120
SUMMARY:सोनाम ल्होसार
DESCRIPTION:सोनाम ल्होसार
END:VEVENT
END:VCALENDAR