BEGIN:VCALENDAR
VERSION:2.0
PRODID:-//Nepali Calendar//EN
BEGIN:VEVENT
UID:95406ab71a1ad813f59d351c2835e9b7@nepalicalendar.com
DTSTAMP:20260421T113556Z
DTSTART;VALUE=DATE:20260116
DTEND;VALUE=DATE:20260117
SUMMARY:राष्ट्रिय भुकम्प सुरक्षा दिवस
DESCRIPTION:राष्ट्रिय भुकम्प सुरक्षा दिवस
END:VEVENT
END:VCALENDAR