BEGIN:VCALENDAR
VERSION:2.0
PRODID:-//Nepali Calendar//EN
BEGIN:VEVENT
UID:e04fc6a7cec07bb2e76432f27f209df7@nepalicalendar.com
DTSTAMP:20260421T113944Z
DTSTART;VALUE=DATE:20260115
DTEND;VALUE=DATE:20260116
SUMMARY:उत्तरायण आरम्भ
DESCRIPTION:उत्तरायण आरम्भ
END:VEVENT
END:VCALENDAR