BEGIN:VCALENDAR
VERSION:2.0
PRODID:-//Nepali Calendar//EN
BEGIN:VEVENT
UID:60645103adea37ebb37db049720dbff7@nepalicalendar.com
DTSTAMP:20260422T023141Z
DTSTART;VALUE=DATE:20250424
DTEND;VALUE=DATE:20250425
SUMMARY:लोकतन्त्र दिवस
DESCRIPTION:लोकतन्त्र दिवस
END:VEVENT
END:VCALENDAR