BEGIN:VCALENDAR
VERSION:2.0
PRODID:-//Nepali Calendar//EN
BEGIN:VEVENT
UID:37405361f92ace4eddc5e3a655aa546e@nepalicalendar.com
DTSTAMP:20260421T114134Z
DTSTART;VALUE=DATE:20260115
DTEND;VALUE=DATE:20260116
SUMMARY:घ्यु चाकु खाने दिन
DESCRIPTION:घ्यु चाकु खाने दिन
END:VEVENT
END:VCALENDAR