BEGIN:VCALENDAR
VERSION:2.0
PRODID:-//Nepali Calendar//EN
BEGIN:VEVENT
UID:1160d378b9f133769006697fca301819@nepalicalendar.com
DTSTAMP:20260421T114139Z
DTSTART;VALUE=DATE:20260115
DTEND;VALUE=DATE:20260116
SUMMARY:माघे संक्रान्ति
DESCRIPTION:माघे संक्रान्ति
END:VEVENT
END:VCALENDAR