BEGIN:VCALENDAR
VERSION:2.0
PRODID:-//Nepali Calendar//EN
BEGIN:VEVENT
UID:ea7367c4f1de9a4a3f92dcc49a631bcd@nepalicalendar.com
DTSTAMP:20260421T114121Z
DTSTART;VALUE=DATE:20260122
DTEND;VALUE=DATE:20260123
SUMMARY:तिलकुन्द चौथी
DESCRIPTION:तिलकुन्द चौथी
END:VEVENT
END:VCALENDAR