BEGIN:VCALENDAR
VERSION:2.0
PRODID:-//Nepali Calendar//EN
BEGIN:VEVENT
UID:6cfdd8e1b4e06d679473fbf36b3d3ecc@nepalicalendar.com
DTSTAMP:20260421T130905Z
DTSTART;VALUE=DATE:20251221
DTEND;VALUE=DATE:20251222
SUMMARY:विश्व ध्यान दिवस
DESCRIPTION:विश्व ध्यान दिवस
END:VEVENT
END:VCALENDAR