BEGIN:VCALENDAR
VERSION:2.0
PRODID:-//Nepali Calendar//EN
BEGIN:VEVENT
UID:466cd14bb23ea6f60ca80d7748252363@nepalicalendar.com
DTSTAMP:20260421T130615Z
DTSTART;VALUE=DATE:20251220
DTEND;VALUE=DATE:20251221
SUMMARY:तोल ल्होसार
DESCRIPTION:तोल ल्होसार
END:VEVENT
END:VCALENDAR