BEGIN:VCALENDAR
VERSION:2.0
PRODID:-//Nepali Calendar//EN
BEGIN:VEVENT
UID:185adbeaa9efc2d63d3dc1d345afa781@nepalicalendar.com
DTSTAMP:20260421T130949Z
DTSTART;VALUE=DATE:20251218
DTEND;VALUE=DATE:20251219
SUMMARY:अन्तर्राष्ट्रिय आप्रवासी दिवस
DESCRIPTION:अन्तर्राष्ट्रिय आप्रवासी दिवस
END:VEVENT
END:VCALENDAR