BEGIN:VCALENDAR
VERSION:2.0
PRODID:-//Nepali Calendar//EN
BEGIN:VEVENT
UID:dcf020ce9cee7453c41632dd0a781ad4@nepalicalendar.com
DTSTAMP:20260421T131058Z
DTSTART;VALUE=DATE:20251216
DTEND;VALUE=DATE:20251217
SUMMARY:धनु संक्रान्ति
DESCRIPTION:धनु संक्रान्ति
END:VEVENT
END:VCALENDAR