BEGIN:VCALENDAR
VERSION:2.0
PRODID:-//Nepali Calendar//EN
BEGIN:VEVENT
UID:209312887bc941d8eb453e30b9b741c9@nepalicalendar.com
DTSTAMP:20260421T145451Z
DTSTART;VALUE=DATE:20251120
DTEND;VALUE=DATE:20251121
SUMMARY:विश्व दर्शनशास्त्र दिवस
DESCRIPTION:विश्व दर्शनशास्त्र दिवस
END:VEVENT
END:VCALENDAR