BEGIN:VCALENDAR
VERSION:2.0
PRODID:-//Nepali Calendar//EN
BEGIN:VEVENT
UID:91262a1dad686a5fe1de43d6a7e03d2e@nepalicalendar.com
DTSTAMP:20260421T145410Z
DTSTART;VALUE=DATE:20251120
DTEND;VALUE=DATE:20251121
SUMMARY:विश्व बाल दिवस
DESCRIPTION:विश्व बाल दिवस
END:VEVENT
END:VCALENDAR