BEGIN:VCALENDAR
VERSION:2.0
PRODID:-//Nepali Calendar//EN
BEGIN:VEVENT
UID:875e6bc078abed8e14a57a595be6a08f@nepalicalendar.com
DTSTAMP:20260422T023402Z
DTSTART;VALUE=DATE:20250423
DTEND;VALUE=DATE:20250424
SUMMARY:विश्व पुस्तक तथा प्रतिलिपि अधिकार दिवस
DESCRIPTION:विश्व पुस्तक तथा प्रतिलिपि अधिकार दिवस
END:VEVENT
END:VCALENDAR