BEGIN:VCALENDAR
VERSION:2.0
PRODID:-//Nepali Calendar//EN
BEGIN:VEVENT
UID:26332ca0678d7acb05b265dba31d09bd@nepalicalendar.com
DTSTAMP:20260421T144913Z
DTSTART;VALUE=DATE:20251119
DTEND;VALUE=DATE:20251120
SUMMARY:विश्व शौचालय दिवस
DESCRIPTION:विश्व शौचालय दिवस
END:VEVENT
END:VCALENDAR