BEGIN:VCALENDAR
VERSION:2.0
PRODID:-//Nepali Calendar//EN
BEGIN:VEVENT
UID:d9fb974d8be5e564f1ec937efb84949a@nepalicalendar.com
DTSTAMP:20260421T145204Z
DTSTART;VALUE=DATE:20251119
DTEND;VALUE=DATE:20251120
SUMMARY:बाला चतुर्दशी व्रत (शतबीज छर्ने)
DESCRIPTION:बाला चतुर्दशी व्रत (शतबीज छर्ने)
END:VEVENT
END:VCALENDAR