BEGIN:VCALENDAR
VERSION:2.0
PRODID:-//Nepali Calendar//EN
BEGIN:VEVENT
UID:8bc3b3227295ab8150930ed4cc3f4161@nepalicalendar.com
DTSTAMP:20260421T145025Z
DTSTART;VALUE=DATE:20251117
DTEND;VALUE=DATE:20251118
SUMMARY:अन्तर्राष्ट्रिय विद्यार्थी दिवस
DESCRIPTION:अन्तर्राष्ट्रिय विद्यार्थी दिवस
END:VEVENT
END:VCALENDAR