BEGIN:VCALENDAR
VERSION:2.0
PRODID:-//Nepali Calendar//EN
BEGIN:VEVENT
UID:2cec54f996fe52c4187c8210ca0ea4fe@nepalicalendar.com
DTSTAMP:20260421T145040Z
DTSTART;VALUE=DATE:20251117
DTEND;VALUE=DATE:20251118
SUMMARY:वृश्चिक संक्रान्ति
DESCRIPTION:वृश्चिक संक्रान्ति
END:VEVENT
END:VCALENDAR