BEGIN:VCALENDAR
VERSION:2.0
PRODID:-//Nepali Calendar//EN
BEGIN:VEVENT
UID:6f4f54a60551b99f5497ef2d2211dd72@nepalicalendar.com
DTSTAMP:20260422T010252Z
DTSTART;VALUE=DATE:20250614
DTEND;VALUE=DATE:20250615
SUMMARY:नेपाल गौरव यात्रा
DESCRIPTION:नेपाल गौरव यात्रा
END:VEVENT
END:VCALENDAR