BEGIN:VCALENDAR
VERSION:2.0
PRODID:-//Nepali Calendar//EN
BEGIN:VEVENT
UID:622d0674444994cd41b1f97a4c797c32@nepalicalendar.com
DTSTAMP:20260422T010253Z
DTSTART;VALUE=DATE:20250607
DTEND;VALUE=DATE:20250608
SUMMARY:बकर ईद (ईद-उल-अज्हा)
DESCRIPTION:बकर ईद (ईद-उल-अज्हा)
END:VEVENT
END:VCALENDAR