BEGIN:VCALENDAR
VERSION:2.0
PRODID:-//Nepali Calendar//EN
BEGIN:VEVENT
UID:d4da795e7b15e19a847d9c22aa09e0c0@nepalicalendar.com
DTSTAMP:20260422T024558Z
DTSTART;VALUE=DATE:20250601
DTEND;VALUE=DATE:20250602
SUMMARY:भोटो जात्रा (उपत्यका विदा)
DESCRIPTION:भोटो जात्रा (उपत्यका विदा)
END:VEVENT
END:VCALENDAR