BEGIN:VCALENDAR
VERSION:2.0
PRODID:-//Nepali Calendar//EN
BEGIN:VEVENT
UID:c2ae0facd00d2cdc7906565c90ea279e@nepalicalendar.com
DTSTAMP:20260422T005941Z
DTSTART;VALUE=DATE:20250531
DTEND;VALUE=DATE:20250601
SUMMARY:विश्व सुर्तीजन्य पदार्थ विरुद्धको दिवस
DESCRIPTION:विश्व सुर्तीजन्य पदार्थ विरुद्धको दिवस
END:VEVENT
END:VCALENDAR