BEGIN:VCALENDAR
VERSION:2.0
PRODID:-//Nepali Calendar//EN
BEGIN:VEVENT
UID:8bdb358e43649d2bf88fde00e9981291@nepalicalendar.com
DTSTAMP:20260422T060238Z
DTSTART;VALUE=DATE:20250412
DTEND;VALUE=DATE:20250413
SUMMARY:बालाजु बाइस धारा मेला
DESCRIPTION:बालाजु बाइस धारा मेला
END:VEVENT
END:VCALENDAR