BEGIN:VCALENDAR
VERSION:2.0
PRODID:-//Nepali Calendar//EN
BEGIN:VEVENT
UID:a12900d5449a2a241fd5fca25cfdd05b@nepalicalendar.com
DTSTAMP:20260422T023303Z
DTSTART;VALUE=DATE:20250422
DTEND;VALUE=DATE:20250423
SUMMARY:विश्व पृथ्वी दिवस
DESCRIPTION:विश्व पृथ्वी दिवस
END:VEVENT
END:VCALENDAR