BEGIN:VCALENDAR
VERSION:2.0
PRODID:-//Nepali Calendar//EN
BEGIN:VEVENT
UID:a5fde98f15acabd436fb4a46a6460931@nepalicalendar.com
DTSTAMP:20260422T005812Z
DTSTART;VALUE=DATE:20250517
DTEND;VALUE=DATE:20250518
SUMMARY:विश्व दूरसञ्चार दिवस
DESCRIPTION:विश्व दूरसञ्चार दिवस
END:VEVENT
END:VCALENDAR