BEGIN:VCALENDAR
VERSION:2.0
PRODID:-//Nepali Calendar//EN
BEGIN:VEVENT
UID:486bdc7e546818c186f201e91e41b68d@nepalicalendar.com
DTSTAMP:20260422T041521Z
DTSTART;VALUE=DATE:20250412
DTEND;VALUE=DATE:20250413
SUMMARY:बैसाख स्नान प्रारम्भ
DESCRIPTION:बैसाख स्नान प्रारम्भ
END:VEVENT
END:VCALENDAR