BEGIN:VCALENDAR
VERSION:2.0
PRODID:-//Nepali Calendar//EN
BEGIN:VEVENT
UID:27125d0c2373672cd3d5d7240b21a10f@nepalicalendar.com
DTSTAMP:20260422T041225Z
DTSTART;VALUE=DATE:20250412
DTEND;VALUE=DATE:20250413
SUMMARY:अन्तर्राष्ट्रिय मानव अन्तरिक्ष उडान दिवस
DESCRIPTION:अन्तर्राष्ट्रिय मानव अन्तरिक्ष उडान दिवस
END:VEVENT
END:VCALENDAR