BEGIN:VCALENDAR
VERSION:2.0
PRODID:-//Nepali Calendar//EN
BEGIN:VEVENT
UID:cb04b659d1ab74e448362756b21f7810@nepalicalendar.com
DTSTAMP:20260422T041516Z
DTSTART;VALUE=DATE:20250412
DTEND;VALUE=DATE:20250413
SUMMARY:हनुमान जयन्ती
DESCRIPTION:हनुमान जयन्ती
END:VEVENT
END:VCALENDAR