BEGIN:VCALENDAR
VERSION:2.0
PRODID:-//Nepali Calendar//EN
BEGIN:VEVENT
UID:f95cad29aee3628a7a023bf4ae7109af@nepalicalendar.com
DTSTAMP:20260422T041053Z
DTSTART;VALUE=DATE:20250410
DTEND;VALUE=DATE:20250411
SUMMARY:महावीर जयन्ती
DESCRIPTION:महावीर जयन्ती
END:VEVENT
END:VCALENDAR