BEGIN:VCALENDAR
VERSION:2.0
PRODID:-//Nepali Calendar//EN
BEGIN:VEVENT
UID:504566fa7fe6d18b42984a7765facf90@nepalicalendar.com
DTSTAMP:20260422T074416Z
DTSTART;VALUE=DATE:20250212
DTEND;VALUE=DATE:20250213
SUMMARY:माघ स्नान समाप्ती
DESCRIPTION:माघ स्नान समाप्ती
END:VEVENT
END:VCALENDAR