BEGIN:VCALENDAR
VERSION:2.0
PRODID:-//Nepali Calendar//EN
BEGIN:VEVENT
UID:b3582830c546531c8eda877710faa5de@nepalicalendar.com
DTSTAMP:20260422T074846Z
DTSTART;VALUE=DATE:20250212
DTEND;VALUE=DATE:20250213
SUMMARY:श्री स्वस्थानी व्रत समाप्ती
DESCRIPTION:श्री स्वस्थानी व्रत समाप्ती
END:VEVENT
END:VCALENDAR