BEGIN:VCALENDAR
VERSION:2.0
PRODID:-//Nepali Calendar//EN
BEGIN:VEVENT
UID:c59aa91e1e795b51a2f5e1c0dc49bfbf@nepalicalendar.com
DTSTAMP:20260422T041349Z
DTSTART;VALUE=DATE:20250408
DTEND;VALUE=DATE:20250409
SUMMARY:कामदा एकादशी व्रत
DESCRIPTION:कामदा एकादशी व्रत
END:VEVENT
END:VCALENDAR