BEGIN:VCALENDAR
VERSION:2.0
PRODID:-//Nepali Calendar//EN
BEGIN:VEVENT
UID:4e643f52cc38f9633379f4b5447ade43@nepalicalendar.com
DTSTAMP:20260422T023136Z
DTSTART;VALUE=DATE:20250421
DTEND;VALUE=DATE:20250422
SUMMARY:गोरखकाली पूजा
DESCRIPTION:गोरखकाली पूजा
END:VEVENT
END:VCALENDAR