BEGIN:VCALENDAR
VERSION:2.0
PRODID:-//Nepali Calendar//EN
BEGIN:VEVENT
UID:5c63a78a737666037b28e550274f1e97@nepalicalendar.com
DTSTAMP:20260422T074712Z
DTSTART;VALUE=DATE:20250211
DTEND;VALUE=DATE:20250212
SUMMARY:सुरक्षित इन्टरनेट दिवस
DESCRIPTION:सुरक्षित इन्टरनेट दिवस
END:VEVENT
END:VCALENDAR