BEGIN:VCALENDAR
VERSION:2.0
PRODID:-//Nepali Calendar//EN
BEGIN:VEVENT
UID:b41ca58979fbca46604146df011069bf@nepalicalendar.com
DTSTAMP:20260422T074846Z
DTSTART;VALUE=DATE:20250211
DTEND;VALUE=DATE:20250212
SUMMARY:विज्ञानमा महिला पहुँचको अन्तर्राष्ट्रिय दिवस
DESCRIPTION:विज्ञानमा महिला पहुँचको अन्तर्राष्ट्रिय दिवस
END:VEVENT
END:VCALENDAR