BEGIN:VCALENDAR
VERSION:2.0
PRODID:-//Nepali Calendar//EN
BEGIN:VEVENT
UID:ed7aef1f1aa0e6730d8e8d076b60c9b4@nepalicalendar.com
DTSTAMP:20260422T074852Z
DTSTART;VALUE=DATE:20250211
DTEND;VALUE=DATE:20250212
SUMMARY:पशुपतिनाथको छाया दर्शन
DESCRIPTION:पशुपतिनाथको छाया दर्शन
END:VEVENT
END:VCALENDAR